BEGIN:VCALENDAR
VERSION:2.0
PRODID:https://www.kufer.de/kuferweb / DE
METHOD:PUBLISH
CALSCALE:GREGORIAN
X-WR-TIMEZONE:Europe/Berlin
BEGIN:VTIMEZONE
TZID:Europe/Berlin
X-LIC-LOCATION:Europe/Berlin
BEGIN:DAYLIGHT
TZOFFSETFROM:+0100
TZOFFSETTO:+0200
TZNAME:CEST
DTSTART:19700329T020000
RRULE:FREQ=YEARLY;INTERVAL=1;BYDAY=-1SU;BYMONTH=3
END:DAYLIGHT
BEGIN:STANDARD
TZOFFSETFROM:+0200
TZOFFSETTO:+0100
TZNAME:CET
DTSTART:19701025T030000
RRULE:FREQ=YEARLY;INTERVAL=1;BYDAY=-1SU;BYMONTH=10
END:STANDARD
END:VTIMEZONE
BEGIN:VEVENT
DTSTAMP:20260419T203327
DTSTART;TZID=Europe/Berlin:20260124T190000
DTEND;TZID=Europe/Berlin:20260124T220000
UID:261-0910-20260124T190000@KVHSST. WENDEL
SUMMARY:Asiatische Küche (261-0910) 
LOCATION:Oberthal - Bliestalschule; Küche, Schwimmbadstr. 39/41, 66649 Oberhal
END:VEVENT
BEGIN:VEVENT
DTSTAMP:20260419T203327
DTSTART;TZID=Europe/Berlin:20260131T190000
DTEND;TZID=Europe/Berlin:20260131T220000
UID:261-0910-20260131T190000@KVHSST. WENDEL
SUMMARY:Asiatische Küche (261-0910) 
LOCATION:Oberthal - Bliestalschule; Küche, Schwimmbadstr. 39/41, 66649 Oberhal
END:VEVENT
BEGIN:VEVENT
DTSTAMP:20260419T203327
DTSTART;TZID=Europe/Berlin:20260207T190000
DTEND;TZID=Europe/Berlin:20260207T220000
UID:261-0910-20260207T190000@KVHSST. WENDEL
SUMMARY:Asiatische Küche (261-0910) 
LOCATION:Oberthal - Bliestalschule; Küche, Schwimmbadstr. 39/41, 66649 Oberhal
END:VEVENT
END:VCALENDAR