BEGIN:VCALENDAR
VERSION:2.0
PRODID:https://www.kufer.de/kuferweb / DE
METHOD:PUBLISH
CALSCALE:GREGORIAN
X-WR-TIMEZONE:Europe/Berlin
BEGIN:VTIMEZONE
TZID:Europe/Berlin
X-LIC-LOCATION:Europe/Berlin
BEGIN:DAYLIGHT
TZOFFSETFROM:+0100
TZOFFSETTO:+0200
TZNAME:CEST
DTSTART:19700329T020000
RRULE:FREQ=YEARLY;INTERVAL=1;BYDAY=-1SU;BYMONTH=3
END:DAYLIGHT
BEGIN:STANDARD
TZOFFSETFROM:+0200
TZOFFSETTO:+0100
TZNAME:CET
DTSTART:19701025T030000
RRULE:FREQ=YEARLY;INTERVAL=1;BYDAY=-1SU;BYMONTH=10
END:STANDARD
END:VTIMEZONE
BEGIN:VEVENT
DTSTAMP:20260420T091739
DTSTART;TZID=Europe/Berlin:20260430T183000
DTEND;TZID=Europe/Berlin:20260430T193000
UID:261-0125-20260430T183000@KVHSST. WENDEL
SUMMARY:Aquajogging III (261-0125) 
LOCATION:Oberkirchen - Schwimmbad, Zum Schwimmbad 7, 66629 Freisen
END:VEVENT
BEGIN:VEVENT
DTSTAMP:20260420T091739
DTSTART;TZID=Europe/Berlin:20260507T183000
DTEND;TZID=Europe/Berlin:20260507T193000
UID:261-0125-20260507T183000@KVHSST. WENDEL
SUMMARY:Aquajogging III (261-0125) 
LOCATION:Oberkirchen - Schwimmbad, Zum Schwimmbad 7, 66629 Freisen
END:VEVENT
BEGIN:VEVENT
DTSTAMP:20260420T091739
DTSTART;TZID=Europe/Berlin:20260514T183000
DTEND;TZID=Europe/Berlin:20260514T193000
UID:261-0125-20260514T183000@KVHSST. WENDEL
SUMMARY:Aquajogging III (261-0125) 
LOCATION:Oberkirchen - Schwimmbad, Zum Schwimmbad 7, 66629 Freisen
END:VEVENT
BEGIN:VEVENT
DTSTAMP:20260420T091739
DTSTART;TZID=Europe/Berlin:20260521T183000
DTEND;TZID=Europe/Berlin:20260521T193000
UID:261-0125-20260521T183000@KVHSST. WENDEL
SUMMARY:Aquajogging III (261-0125) 
LOCATION:Oberkirchen - Schwimmbad, Zum Schwimmbad 7, 66629 Freisen
END:VEVENT
BEGIN:VEVENT
DTSTAMP:20260420T091739
DTSTART;TZID=Europe/Berlin:20260528T183000
DTEND;TZID=Europe/Berlin:20260528T193000
UID:261-0125-20260528T183000@KVHSST. WENDEL
SUMMARY:Aquajogging III (261-0125) 
LOCATION:Oberkirchen - Schwimmbad, Zum Schwimmbad 7, 66629 Freisen
END:VEVENT
END:VCALENDAR